BEGIN:VCALENDAR
VERSION:2.0
PRODID:-//Theresianum Spätberufenengymnasium und Kolleg - Förderverein - ECPv6.15.17//NONSGML v1.0//EN
CALSCALE:GREGORIAN
METHOD:PUBLISH
X-ORIGINAL-URL:https://www.theresianum.de
X-WR-CALDESC:Veranstaltungen für Theresianum Spätberufenengymnasium und Kolleg - Förderverein
REFRESH-INTERVAL;VALUE=DURATION:PT1H
X-Robots-Tag:noindex
X-PUBLISHED-TTL:PT1H
BEGIN:VTIMEZONE
TZID:Europe/Berlin
BEGIN:DAYLIGHT
TZOFFSETFROM:+0100
TZOFFSETTO:+0200
TZNAME:CEST
DTSTART:20230326T010000
END:DAYLIGHT
BEGIN:STANDARD
TZOFFSETFROM:+0200
TZOFFSETTO:+0100
TZNAME:CET
DTSTART:20231029T010000
END:STANDARD
BEGIN:DAYLIGHT
TZOFFSETFROM:+0100
TZOFFSETTO:+0200
TZNAME:CEST
DTSTART:20240331T010000
END:DAYLIGHT
BEGIN:STANDARD
TZOFFSETFROM:+0200
TZOFFSETTO:+0100
TZNAME:CET
DTSTART:20241027T010000
END:STANDARD
BEGIN:DAYLIGHT
TZOFFSETFROM:+0100
TZOFFSETTO:+0200
TZNAME:CEST
DTSTART:20250330T010000
END:DAYLIGHT
BEGIN:STANDARD
TZOFFSETFROM:+0200
TZOFFSETTO:+0100
TZNAME:CET
DTSTART:20251026T010000
END:STANDARD
END:VTIMEZONE
BEGIN:VEVENT
DTSTART;VALUE=DATE:20240219
DTEND;VALUE=DATE:20240224
DTSTAMP:20260422T115505
CREATED:20231101T062541Z
LAST-MODIFIED:20231116T114820Z
UID:10000003-1708300800-1708732799@www.theresianum.de
SUMMARY:Wissenschaftswoche
DESCRIPTION:Im Zuge der Neuerungen der G9 erarbeiten ausschließlich die Klassen 11a und 11b des Gymnasiums und der Jahrgang I des Kollegs zu einem übergeordneten Rahmenthema kurze und fächergebundene Beiträge mit abschließender Präsentation.
URL:https://www.theresianum.de/event/wissenschaftswoche/
LOCATION:Theresianum
END:VEVENT
END:VCALENDAR